BEGIN:VCALENDAR
VERSION:2.0
PRODID:-//Pacific Zen Institute - ECPv6.15.17.1//NONSGML v1.0//EN
CALSCALE:GREGORIAN
METHOD:PUBLISH
X-ORIGINAL-URL:https://www.pacificzen.org
X-WR-CALDESC:Events for Pacific Zen Institute
REFRESH-INTERVAL;VALUE=DURATION:PT1H
X-Robots-Tag:noindex
X-PUBLISHED-TTL:PT1H
BEGIN:VTIMEZONE
TZID:America/Los_Angeles
BEGIN:DAYLIGHT
TZOFFSETFROM:-0800
TZOFFSETTO:-0700
TZNAME:PDT
DTSTART:20230312T100000
END:DAYLIGHT
BEGIN:STANDARD
TZOFFSETFROM:-0700
TZOFFSETTO:-0800
TZNAME:PST
DTSTART:20231105T090000
END:STANDARD
BEGIN:DAYLIGHT
TZOFFSETFROM:-0800
TZOFFSETTO:-0700
TZNAME:PDT
DTSTART:20240310T100000
END:DAYLIGHT
BEGIN:STANDARD
TZOFFSETFROM:-0700
TZOFFSETTO:-0800
TZNAME:PST
DTSTART:20241103T090000
END:STANDARD
BEGIN:DAYLIGHT
TZOFFSETFROM:-0800
TZOFFSETTO:-0700
TZNAME:PDT
DTSTART:20250309T100000
END:DAYLIGHT
BEGIN:STANDARD
TZOFFSETFROM:-0700
TZOFFSETTO:-0800
TZNAME:PST
DTSTART:20251102T090000
END:STANDARD
END:VTIMEZONE
BEGIN:VEVENT
DTSTART;TZID=America/Los_Angeles:20241005T080000
DTEND;TZID=America/Los_Angeles:20241005T100000
DTSTAMP:20260425T171101
CREATED:20240917T203254Z
LAST-MODIFIED:20241010T172401Z
UID:10001842-1728115200-1728122400@www.pacificzen.org
SUMMARY:SATURDAY ZEN: For PZI Members – Conversations with David Weinstein
DESCRIPTION:About Saturday Conversations \nDokusan is the Japanese word for these conversations about meditation practice. It means “to go alone” or “to practice alone.” It is to have a conversation so intimate\, that for both participants it is as if you were talking with and listening to yourself. \nThe word “conversation” (in place of the Japanese word dokusan) has its own way of speaking to the experience. \nEtymologically\, it means “to turn around together.” Meditation is often referred to as a turning around of our attention towards the inside. These conversations about meditation practice are an opportunity for a mutual turning the light around and exploring what’s there. \n—David Weinstein \n\nSaturday Conversations with David Weinstein Roshi\nOnline on Zoom from 8–10:00 am Pacific Time\nEvery two weeks \nIf you are a PZI Member and would like to have a conversation with David\,\nbook your 15-minute online meeting here. \nDana gratefully accepted \nQuestions? Contact David
URL:https://www.pacificzen.org/event/saturday-zen-for-pzi-members-conversations-with-david-weinstein-7/
LOCATION:Saturday Conversations
CATEGORIES:Saturday Conversations
ATTACH;FMTTYPE=image/jpeg:https://www.pacificzen.org/wp-content/uploads/2024/09/Buddha-laying-down.jpg
ORGANIZER;CN="David Weinstein Roshi":MAILTO:dweinstein@pacificzen.org
END:VEVENT
BEGIN:VEVENT
DTSTART;TZID=America/Los_Angeles:20240831T080000
DTEND;TZID=America/Los_Angeles:20240831T100000
DTSTAMP:20260425T171101
CREATED:20240917T201821Z
LAST-MODIFIED:20240917T201822Z
UID:10001789-1725091200-1725098400@www.pacificzen.org
SUMMARY:SATURDAY ZEN: For PZI Members – Conversations with David Weinstein
DESCRIPTION:About Saturday Conversations \nDokusan is the Japanese word for these conversations about meditation practice. It means “to go alone” or “to practice alone.” It is to have a conversation so intimate\, that for both participants it is as if you were talking with and listening to yourself. \nThe word “conversation” (in place of the Japanese word dokusan) has its own way of speaking to the experience. \nEtymologically\, it means “to turn around together.” Meditation is often referred to as a turning around of our attention towards the inside. These conversations about meditation practice are an opportunity for a mutual turning the light around and exploring what’s there. \n—David Weinstein \n\nSaturday Conversations with David Weinstein Roshi\nOnline on Zoom from 8–10:00 am Pacific Time\nEvery two weeks \nIf you are a PZI Member and would like to have a conversation with David\,\nbook your 15-minute online meeting here (link coming soon). \nDana gratefully accepted \nQuestions? Contact David
URL:https://www.pacificzen.org/event/saturday-zen-for-pzi-members-conversations-with-david-weinstein-5-3-4/
LOCATION:Saturday Conversations
CATEGORIES:Saturday Conversations
ATTACH;FMTTYPE=image/png:https://www.pacificzen.org/wp-content/uploads/2024/04/monkeyBuddha_500x375.png
ORGANIZER;CN="David Weinstein Roshi":MAILTO:dweinstein@pacificzen.org
END:VEVENT
BEGIN:VEVENT
DTSTART;TZID=America/Los_Angeles:20240817T080000
DTEND;TZID=America/Los_Angeles:20240817T100000
DTSTAMP:20260425T171101
CREATED:20240814T164717Z
LAST-MODIFIED:20240814T164718Z
UID:10001788-1723881600-1723888800@www.pacificzen.org
SUMMARY:SATURDAY ZEN: For PZI Members – Conversations with David Weinstein
DESCRIPTION:About Saturday Conversations \nDokusan is the Japanese word for these conversations about meditation practice. It means “to go alone” or “to practice alone.” It is to have a conversation so intimate\, that for both participants it is as if you were talking with and listening to yourself. \nThe word “conversation” (in place of the Japanese word dokusan) has its own way of speaking to the experience. \nEtymologically\, it means “to turn around together.” Meditation is often referred to as a turning around of our attention towards the inside. These conversations about meditation practice are an opportunity for a mutual turning the light around and exploring what’s there. \n—David Weinstein \n\nSaturday Conversations with David Weinstein Roshi\nOnline on Zoom from 8–10:00 am Pacific Time\nEvery two weeks \nIf you are a PZI Member and would like to have a conversation with David\,\nbook your 15-minute online meeting here. \nDana gratefully accepted \nQuestions? Contact David
URL:https://www.pacificzen.org/event/saturday-zen-for-pzi-members-conversations-with-david-weinstein-5-3-3/
LOCATION:Saturday Conversations
CATEGORIES:Saturday Conversations
ATTACH;FMTTYPE=image/png:https://www.pacificzen.org/wp-content/uploads/2024/04/monkeyBuddha_500x375.png
ORGANIZER;CN="David Weinstein Roshi":MAILTO:dweinstein@pacificzen.org
END:VEVENT
BEGIN:VEVENT
DTSTART;TZID=America/Los_Angeles:20240803T080000
DTEND;TZID=America/Los_Angeles:20240803T100000
DTSTAMP:20260425T171101
CREATED:20240719T001717Z
LAST-MODIFIED:20240722T222059Z
UID:10001735-1722672000-1722679200@www.pacificzen.org
SUMMARY:SATURDAY ZEN: For PZI Members – Conversations with David Weinstein
DESCRIPTION:About Saturday Conversations \nDokusan is the Japanese word for these conversations about meditation practice. It means “to go alone” or “to practice alone.” It is to have a conversation so intimate\, that for both participants it is as if you were talking with and listening to yourself. \nThe word “conversation” (in place of the Japanese word dokusan) has its own way of speaking to the experience. \nEtymologically\, it means “to turn around together.” Meditation is often referred to as a turning around of our attention towards the inside. These conversations about meditation practice are an opportunity for a mutual turning the light around and exploring what’s there. \n—David Weinstein \n\nSaturday Conversations with David Weinstein Roshi\nOnline on Zoom from 8–10:00 am Pacific Time\nEvery two weeks \nSign up now for August 3rd\, 2024 \nIf you are a PZI Member and would like to have a conversation with David\,\nbook your 15-minute online meeting here. \nDana gratefully accepted \nQuestions? Contact David
URL:https://www.pacificzen.org/event/saturday-zen-for-pzi-members-conversations-with-david-weinstein-5-3-2/
LOCATION:Saturday Conversations
CATEGORIES:Saturday Conversations
ATTACH;FMTTYPE=image/png:https://www.pacificzen.org/wp-content/uploads/2024/04/monkeyBuddha_500x375.png
ORGANIZER;CN="David Weinstein Roshi":MAILTO:dweinstein@pacificzen.org
END:VEVENT
BEGIN:VEVENT
DTSTART;TZID=America/Los_Angeles:20240720T080000
DTEND;TZID=America/Los_Angeles:20240720T100000
DTSTAMP:20260425T171101
CREATED:20240705T222023Z
LAST-MODIFIED:20240716T230720Z
UID:10001804-1721462400-1721469600@www.pacificzen.org
SUMMARY:SATURDAY ZEN: For PZI Members – Conversations with David Weinstein
DESCRIPTION:About Saturday Conversations \nDokusan is the Japanese word for these conversations about meditation practice. It means “to go alone” or “to practice alone.” It is to have a conversation so intimate\, that for both participants it is as if you were talking with and listening to yourself. \nThe word “conversation” (in place of the Japanese word dokusan) has its own way of speaking to the experience. \nEtymologically\, it means “to turn around together.” Meditation is often referred to as a turning around of our attention towards the inside. These conversations about meditation practice are an opportunity for a mutual turning the light around and exploring what’s there. \n—David Weinstein \n\n Conversations with David Weinstein Roshi\nOnline on Zoom from 8–10:00 am Pacific Time\nEvery two weeks \nSign up now for July 20th\, 2024 \nIf you are a PZI Member and would like to have a conversation with David\,\nbook your 15-minute online meeting HERE. \nDana gratefully accepted
URL:https://www.pacificzen.org/event/saturday-zen-for-pzi-members-conversations-with-david-weinstein-6-2/
LOCATION:Saturday Conversations
CATEGORIES:Saturday Conversations
ATTACH;FMTTYPE=image/png:https://www.pacificzen.org/wp-content/uploads/2024/04/monkeyBuddha_500x375.png
ORGANIZER;CN="David Weinstein Roshi":MAILTO:dweinstein@pacificzen.org
END:VEVENT
BEGIN:VEVENT
DTSTART;TZID=America/Los_Angeles:20240706T080000
DTEND;TZID=America/Los_Angeles:20240706T100000
DTSTAMP:20260425T171101
CREATED:20240705T222131Z
LAST-MODIFIED:20240705T222131Z
UID:10001803-1720252800-1720260000@www.pacificzen.org
SUMMARY:SATURDAY ZEN: For PZI Members – Conversations with David Weinstein
DESCRIPTION:About Saturday Conversations \nDokusan is the Japanese word for these conversations about meditation practice. It means “to go alone” or “to practice alone.” It is to have a conversation so intimate\, that for both participants it is as if you were talking with and listening to yourself. \nThe word “conversation” (in place of the Japanese word dokusan) has its own way of speaking to the experience. \nEtymologically\, it means “to turn around together.” Meditation is often referred to as a turning around of our attention towards the inside. These conversations about meditation practice are an opportunity for a mutual turning the light around and exploring what’s there. \n—David Weinstein \n Conversations with David Weinstein Roshi\nOnline on Zoom from 8–10:00 am Pacific Time\nEvery two weeks \nSign up now for June 22nd\, 2024 \nIf you are a PZI Member and would like to have a conversation with David\,\nbook your 15-minute online meeting HERE. \nDana gratefully accepted
URL:https://www.pacificzen.org/event/saturday-zen-for-pzi-members-conversations-with-david-weinstein-6-3/
LOCATION:Saturday Conversations
CATEGORIES:Saturday Conversations
ATTACH;FMTTYPE=image/png:https://www.pacificzen.org/wp-content/uploads/2024/04/monkeyBuddha_500x375.png
ORGANIZER;CN="David Weinstein Roshi":MAILTO:dweinstein@pacificzen.org
END:VEVENT
BEGIN:VEVENT
DTSTART;TZID=America/Los_Angeles:20240608T080000
DTEND;TZID=America/Los_Angeles:20240608T100000
DTSTAMP:20260425T171101
CREATED:20240524T181806Z
LAST-MODIFIED:20240702T213415Z
UID:10001734-1717833600-1717840800@www.pacificzen.org
SUMMARY:SATURDAY ZEN: For PZI Members – Conversations with David Weinstein
DESCRIPTION:If you are a PZI Member and would like to have a conversation with David\,\nbook your 15-minute online meeting HERE \n\nSaturday Conversations with David Weinstein Roshi are held online on Zoom\n8:00 –10:00 am Pacific Time\nEvery two weeks \nDana gratefully accepted. \nQuestions? Contact David \n\nAbout Saturday Conversations \nDokusan is the Japanese word for these conversations about meditation practice. It means “to go alone” or “to practice alone.” It is to have a conversation so intimate\, that for both participants it is as if you were talking with and listening to yourself. \nThe word “conversation” (in place of the Japanese word dokusan) has its own way of speaking to the experience. \nEtymologically\, it means “to turn around together.” Meditation is often referred to as a turning around of our attention towards the inside. These conversations about meditation practice are an opportunity for a mutual turning the light around and exploring what’s there. \n—David Weinstein
URL:https://www.pacificzen.org/event/saturday-zen-for-pzi-members-conversations-with-david-weinstein-5-2/
LOCATION:Saturday Conversations
CATEGORIES:PZI Zen Online
ATTACH;FMTTYPE=image/png:https://www.pacificzen.org/wp-content/uploads/2024/04/monkeyBuddha_500x375.png
ORGANIZER;CN="David Weinstein Roshi":MAILTO:dweinstein@pacificzen.org
END:VEVENT
BEGIN:VEVENT
DTSTART;TZID=America/Los_Angeles:20240525T080000
DTEND;TZID=America/Los_Angeles:20240525T100000
DTSTAMP:20260425T171101
CREATED:20240514T175311Z
LAST-MODIFIED:20240514T175311Z
UID:10001721-1716624000-1716631200@www.pacificzen.org
SUMMARY:SATURDAY ZEN: For PZI Members – Conversations with David Weinstein
DESCRIPTION:If you are a PZI Member and would like to have a conversation with David\,\nbook your 15-minute online meeting HERE. \n\nSaturday Conversations with David Weinstein Roshi are held online on Zoom\n8:00 –10:00 am Pacific Time\nEvery two weeks \nDana gratefully accepted. \nQuestions? Contact David \n\nAbout Saturday Conversations \nDokusan is the Japanese word for these conversations about meditation practice. It means “to go alone” or “to practice alone.” It is to have a conversation so intimate\, that for both participants it is as if you were talking with and listening to yourself. \nThe word “conversation” (in place of the Japanese word dokusan) has its own way of speaking to the experience. \nEtymologically\, it means “to turn around together.” Meditation is often referred to as a turning around of our attention towards the inside. These conversations about meditation practice are an opportunity for a mutual turning the light around and exploring what’s there. \n—David Weinstein
URL:https://www.pacificzen.org/event/saturday-zen-for-pzi-members-conversations-with-david-weinstein-4-2-2/
LOCATION:Saturday Conversations
CATEGORIES:PZI Zen Online
ATTACH;FMTTYPE=image/png:https://www.pacificzen.org/wp-content/uploads/2024/04/monkeyBuddha_500x375.png
ORGANIZER;CN="David Weinstein Roshi":MAILTO:dweinstein@pacificzen.org
END:VEVENT
BEGIN:VEVENT
DTSTART;TZID=America/Los_Angeles:20240511T080000
DTEND;TZID=America/Los_Angeles:20240511T100000
DTSTAMP:20260425T171101
CREATED:20240422T022625Z
LAST-MODIFIED:20240422T022625Z
UID:10001720-1715414400-1715421600@www.pacificzen.org
SUMMARY:SATURDAY ZEN: For PZI Members – Conversations with David Weinstein
DESCRIPTION:If you are a PZI Member and would like to have a conversation with David\,\nbook your 15-minute online meeting HERE (link coming soon) \n\nSaturday Conversations with David Weinstein Roshi are held online on Zoom\n8:00 –10:00 am Pacific Time\nEvery two weeks \nDana gratefully accepted. \nQuestions? Contact David \n\nAbout Saturday Conversations \nDokusan is the Japanese word for these conversations about meditation practice. It means “to go alone” or “to practice alone.” It is to have a conversation so intimate\, that for both participants it is as if you were talking with and listening to yourself. \nThe word “conversation” (in place of the Japanese word dokusan) has its own way of speaking to the experience. \nEtymologically\, it means “to turn around together.” Meditation is often referred to as a turning around of our attention towards the inside. These conversations about meditation practice are an opportunity for a mutual turning the light around and exploring what’s there. \n—David Weinstein
URL:https://www.pacificzen.org/event/saturday-zen-for-pzi-members-conversations-with-david-weinstein-4-2/2024-05-11/
LOCATION:Saturday Conversations
CATEGORIES:PZI Zen Online
ATTACH;FMTTYPE=image/png:https://www.pacificzen.org/wp-content/uploads/2024/04/monkeyBuddha_500x375.png
ORGANIZER;CN="David Weinstein Roshi":MAILTO:dweinstein@pacificzen.org
END:VEVENT
BEGIN:VEVENT
DTSTART;TZID=America/Los_Angeles:20240427T080000
DTEND;TZID=America/Los_Angeles:20240427T100000
DTSTAMP:20260425T171101
CREATED:20240422T022302Z
LAST-MODIFIED:20240422T175347Z
UID:10001719-1714204800-1714212000@www.pacificzen.org
SUMMARY:SATURDAY ZEN: For PZI Members – Conversations with David Weinstein
DESCRIPTION:If you are a PZI Member and would like to have a conversation with David\,\nbook your 15-minute online meeting HERE \n\nSaturday Conversations with David Weinstein Roshi are held online on Zoom\n8:00 –10:00 am Pacific Time\nEvery two weeks \nDana gratefully accepted. \nQuestions? Contact David \n\nAbout Saturday Conversations \nDokusan is the Japanese word for these conversations about meditation practice. It means “to go alone” or “to practice alone.” It is to have a conversation so intimate\, that for both participants it is as if you were talking with and listening to yourself. \nThe word “conversation” (in place of the Japanese word dokusan) has its own way of speaking to the experience. \nEtymologically\, it means “to turn around together.” Meditation is often referred to as a turning around of our attention towards the inside. These conversations about meditation practice are an opportunity for a mutual turning the light around and exploring what’s there. \n—David Weinstein
URL:https://www.pacificzen.org/event/saturday-zen-for-pzi-members-conversations-with-david-weinstein-4/
LOCATION:Saturday Conversations
CATEGORIES:PZI Zen Online
ATTACH;FMTTYPE=image/png:https://www.pacificzen.org/wp-content/uploads/2024/04/monkeyBuddha_500x375.png
ORGANIZER;CN="David Weinstein Roshi":MAILTO:dweinstein@pacificzen.org
END:VEVENT
BEGIN:VEVENT
DTSTART;TZID=America/Los_Angeles:20240323T080000
DTEND;TZID=America/Los_Angeles:20240323T100000
DTSTAMP:20260425T171101
CREATED:20240228T005338Z
LAST-MODIFIED:20240422T022254Z
UID:10001663-1711180800-1711188000@www.pacificzen.org
SUMMARY:SATURDAY ZEN: For PZI Members – Conversations with David Weinstein
DESCRIPTION:If you are a PZI Member and would like to have a conversation with David\,\nbook your 15-minute online meeting HERE \n\nSaturday Conversations with David Weinstein Roshi are held online on Zoom\n8:00 –10:00 am Pacific Time\nEvery two weeks \nDana gratefully accepted. \nQuestions? Contact David \n\nAbout Saturday Conversations \nDokusan is the Japanese word for these conversations about meditation practice. It means “to go alone” or “to practice alone.” It is to have a conversation so intimate\, that for both participants it is as if you were talking with and listening to yourself. \nThe word “conversation” (in place of the Japanese word dokusan) has its own way of speaking to the experience. \nEtymologically\, it means “to turn around together.” Meditation is often referred to as a turning around of our attention towards the inside. These conversations about meditation practice are an opportunity for a mutual turning the light around and exploring what’s there. \n—David Weinstein
URL:https://www.pacificzen.org/event/saturday-zen-for-pzi-members-conversations-with-david-weinstein-3/
LOCATION:Saturday Conversations
CATEGORIES:PZI Zen Online
ATTACH;FMTTYPE=image/jpeg:https://www.pacificzen.org/wp-content/uploads/2023/09/belovedBuddhaTouchesEarhtCALENDAR.jpg
ORGANIZER;CN="David Weinstein Roshi":MAILTO:dweinstein@pacificzen.org
END:VEVENT
BEGIN:VEVENT
DTSTART;TZID=America/Los_Angeles:20240309T080000
DTEND;TZID=America/Los_Angeles:20240309T100000
DTSTAMP:20260425T171101
CREATED:20240228T005122Z
LAST-MODIFIED:20240228T174627Z
UID:10001662-1709971200-1709978400@www.pacificzen.org
SUMMARY:SATURDAY ZEN: For PZI Members – Conversations with David Weinstein
DESCRIPTION:If you are a PZI Member and would like to have a conversation with David\,\nbook your 15-minute online meeting HERE \n\nSaturday Conversations with David Weinstein Roshi are held online on Zoom\n8:00 –10:00 am Pacific Time every two weeks \nDana gratefully accepted. \nQuestions? Contact David \n\nAbout Saturday Conversations \nDokusan is the Japanese word for these conversations about meditation practice. It means “to go alone” or “to practice alone.” It is to have a conversation so intimate\, that for both participants it is as if you were talking with and listening to yourself. \nThe word “conversation” (in place of the Japanese word dokusan) has its own way of speaking to the experience. \nEtymologically\, it means “to turn around together.” Meditation is often referred to as a turning around of our attention towards the inside. These conversations about meditation practice are an opportunity for a mutual turning the light around and exploring what’s there. \n—David Weinstein
URL:https://www.pacificzen.org/event/saturday-zen-for-pzi-members-conversations-with-david-weinstein-2/
LOCATION:Saturday Conversations
CATEGORIES:PZI Zen Online
ATTACH;FMTTYPE=image/jpeg:https://www.pacificzen.org/wp-content/uploads/2023/09/belovedBuddhaTouchesEarhtCALENDAR.jpg
ORGANIZER;CN="David Weinstein Roshi":MAILTO:dweinstein@pacificzen.org
END:VEVENT
BEGIN:VEVENT
DTSTART;TZID=America/Los_Angeles:20240224T080000
DTEND;TZID=America/Los_Angeles:20240224T100000
DTSTAMP:20260425T171101
CREATED:20240220T182519Z
LAST-MODIFIED:20240220T183047Z
UID:10001661-1708761600-1708768800@www.pacificzen.org
SUMMARY:SATURDAY ZEN: For PZI Members – Conversations with David Weinstein
DESCRIPTION:NEXT SATURDAY CONVERSATION IS FEBRUARY 24th \nSIGN UP BELOW \n\nSaturday Conversations with David Weinstein Roshi are held online on Zoom\n8:00 –10:00 am Pacific Time\nEvery two weeks \nDana gratefully accepted. \nIf you are a PZI Member and would like to have a conversation with David\,\nbook your 15-minute online meeting HERE \nQuestions? Contact David \n\nAbout Saturday Conversations \nDokusan is the Japanese word for these conversations about meditation practice. It means “to go alone” or “to practice alone.” It is to have a conversation so intimate\, that for both participants it is as if you were talking with and listening to yourself. \nThe word “conversation” (in place of the Japanese word dokusan) has its own way of speaking to the experience. \nEtymologically\, it means “to turn around together.” Meditation is often referred to as a turning around of our attention towards the inside. These conversations about meditation practice are an opportunity for a mutual turning the light around and exploring what’s there. \n—David Weinstein
URL:https://www.pacificzen.org/event/saturday-zen-for-pzi-members-conversations-with-david-weinstein/2024-02-24/
LOCATION:Saturday Conversations
CATEGORIES:PZI Zen Online
ATTACH;FMTTYPE=image/jpeg:https://www.pacificzen.org/wp-content/uploads/2023/09/belovedBuddhaTouchesEarhtCALENDAR.jpg
ORGANIZER;CN="David Weinstein Roshi":MAILTO:dweinstein@pacificzen.org
END:VEVENT
END:VCALENDAR