BEGIN:VCALENDAR
VERSION:2.0
PRODID:-//Pacific Zen Institute - ECPv6.15.17.1//NONSGML v1.0//EN
CALSCALE:GREGORIAN
METHOD:PUBLISH
X-WR-CALNAME:Pacific Zen Institute
X-ORIGINAL-URL:https://www.pacificzen.org
X-WR-CALDESC:Events for Pacific Zen Institute
REFRESH-INTERVAL;VALUE=DURATION:PT1H
X-Robots-Tag:noindex
X-PUBLISHED-TTL:PT1H
BEGIN:VTIMEZONE
TZID:America/Los_Angeles
BEGIN:DAYLIGHT
TZOFFSETFROM:-0800
TZOFFSETTO:-0700
TZNAME:PDT
DTSTART:20220313T100000
END:DAYLIGHT
BEGIN:STANDARD
TZOFFSETFROM:-0700
TZOFFSETTO:-0800
TZNAME:PST
DTSTART:20221106T090000
END:STANDARD
BEGIN:DAYLIGHT
TZOFFSETFROM:-0800
TZOFFSETTO:-0700
TZNAME:PDT
DTSTART:20230312T100000
END:DAYLIGHT
BEGIN:STANDARD
TZOFFSETFROM:-0700
TZOFFSETTO:-0800
TZNAME:PST
DTSTART:20231105T090000
END:STANDARD
BEGIN:DAYLIGHT
TZOFFSETFROM:-0800
TZOFFSETTO:-0700
TZNAME:PDT
DTSTART:20240310T100000
END:DAYLIGHT
BEGIN:STANDARD
TZOFFSETFROM:-0700
TZOFFSETTO:-0800
TZNAME:PST
DTSTART:20241103T090000
END:STANDARD
BEGIN:DAYLIGHT
TZOFFSETFROM:-0800
TZOFFSETTO:-0700
TZNAME:PDT
DTSTART:20250309T100000
END:DAYLIGHT
BEGIN:STANDARD
TZOFFSETFROM:-0700
TZOFFSETTO:-0800
TZNAME:PST
DTSTART:20251102T090000
END:STANDARD
END:VTIMEZONE
BEGIN:VEVENT
DTSTART;TZID=America/Los_Angeles:20240610T193000
DTEND;TZID=America/Los_Angeles:20240616T120000
DTSTAMP:20260425T064835
CREATED:20240104T204620Z
LAST-MODIFIED:20240608T185017Z
UID:10001636-1718047800-1718539200@www.pacificzen.org
SUMMARY:SUMMER SESSHIN: The Summer of Zen – Meeting the Inconceivable with John Tarrant & PZI Teachers
DESCRIPTION:REGISTRATION CLOSED \nAlready registered and have questions? \nContact registrar Lora Ferguson at loraferg1328@gmail.com \n\nGreat Summer Sesshin \nIn Person with John Tarrant & PZI Teachers \nThe Summer of Zen: Meeting the Inconceivable\nSanta Sabina Retreat Center\nin Northern California\nJune 10th–16th\, 2023 \nAh\, the Summer of Zen!\nAh\, the moon and the stars! \nHere is our koan: \nOne day\, Yanguan called to his attendant\, “Bring me the rhinoceros fan.”\nThe attendant replied\, “The fan is broken.”\nYanguan said\, “If the fan is broken\, bring back the rhinoceros.” \nAnd how am I going to navigate this life of wonder and tears? Meditation opens space. \nThe birds of the morning\, the traffic sounds\, they are all a great cry and we can’t help but respond.\n“Here I am! I’m in summer retreat and all is well.” \nThe mind settles\, the heart opens by itself\, and a solitary brightness is visible in every single thing. Even your shoes and your knees are delighted. The kitchen is thrilled\, it wants to follow you into the meditation hall. Everywhere\, deep gratitude wells up. Silently\, in the quiet afternoon of retreat—unsought happiness. \nJoin us for our yearly summer sesshin\, a time to sit together in silence in the companionship of wonder. \nThis is our last summer sesshin in Santa Sabina\, a beautiful retreat center where the nuns have been very kind to us over many years. \nSummer Sesshin is our major gathering for the year. We meet and sit together. There will be refuge ceremonies and sutras and teachings and also deep and marvelous silence. \nJoin us\, join us! \n—John Tarrant \n \n\n\nOur Summer Sesshin: \nThere will be personal interviews and deep meditation\, teaching talks and some conversations\, old friends and new\, brilliant teachers\, music\, great enlightenment\, mistakes\, and delight. \nThis is an extended 7-day & 6-night in-person gathering beginning Monday June 10th at 7:30 pm\, and completing Sunday June 16th at 12:00 pm. \nWith PZI Teachers: John Tarrant\, Allison Atwill\, Tess Beasley\, Jon Joseph\, Michelle Riddle\, David Weinstein\nHead of Practice: Todd Geist\n \n\n\n\n \nWhere: Santa Sabina Retreat Center in Northern California: \nSanta Sabina Center\n25 Magnolia Ave\nSan Rafael\, CA 94901 \n\n\nRetreat registration includes room and board free access to PZI Summer Open Temple morning meditations. \nPZI Member Single\, 2100\nPZI Member Double\, 1545 \nNon-member Single\, 2200\nNon-member Double\, 1595 \nFor retreat questions or request a PZI Member scholarship\, contact our registrar\,\nLora Ferguson at loraferg1328@gmail.com \n\nDear PZI Friends\, \nIn sesshin we come together with PZI members\, teachers\, musicians\, and those new to PZI. We can discover things which we could not discover alone. It’s nice to have each other as we find our way. Thank you for all you offer to PZI. \n—PZI Board President Tess Beasley Roshi & Director John Tarrant Roshi\, & All of us at PZI \n 
URL:https://www.pacificzen.org/event/save-the-dates-great-summer-sesshin-with-john-tarrant-friends/
LOCATION:Santa Sabina Center\, 25 Magnolia Avenue\, San Rafael\, CA\, 94901\, United States
CATEGORIES:PZI Retreats,Sesshin
ATTACH;FMTTYPE=image/jpeg:https://www.pacificzen.org/wp-content/uploads/2024/04/Sesshin-rhino_500x375.jpg
END:VEVENT
BEGIN:VEVENT
DTSTART;TZID=America/Los_Angeles:20231029T060000
DTEND;TZID=America/Los_Angeles:20231029T120000
DTSTAMP:20260425T064835
CREATED:20230912T185413Z
LAST-MODIFIED:20230912T185427Z
UID:10001568-1698559200-1698580800@www.pacificzen.org
SUMMARY:PZI Great Fall Sesshin in Session
DESCRIPTION:Great Fall Sesshin Is in Session: All of Autumn Is in the One Leaf \nCLOSING DAY \nIn Person with John Tarrant & PZI Teachers\nSanta Sabina Center\nSan Rafael\, CA \nOctober 24–29\, 2023
URL:https://www.pacificzen.org/event/pzi-great-fall-sesshin-in-session-2-2-2-2-2/
LOCATION:Santa Sabina Center\, 25 Magnolia Avenue\, San Rafael\, CA\, 94901\, United States
CATEGORIES:PZI Retreats,Sesshin
ATTACH;FMTTYPE=image/jpeg:https://www.pacificzen.org/wp-content/uploads/2023/02/fallSesshin-LealCALENDAR.jpg
END:VEVENT
BEGIN:VEVENT
DTSTART;TZID=America/Los_Angeles:20231028T060000
DTEND;TZID=America/Los_Angeles:20231028T210000
DTSTAMP:20260425T064835
CREATED:20230912T185252Z
LAST-MODIFIED:20230912T185252Z
UID:10001567-1698472800-1698526800@www.pacificzen.org
SUMMARY:PZI Great Fall Sesshin in Session
DESCRIPTION:Great Fall Sesshin Is in Session: All of Autumn Is in the One Leaf \nDAY FIVE \nIn Person with John Tarrant & PZI Teachers\nSanta Sabina Center\nSan Rafael\, CA \nOctober 24–29\, 2023
URL:https://www.pacificzen.org/event/pzi-great-fall-sesshin-in-session-2-2-2-2/2023-10-28/
LOCATION:Santa Sabina Center\, 25 Magnolia Avenue\, San Rafael\, CA\, 94901\, United States
CATEGORIES:PZI Retreats,Sesshin
ATTACH;FMTTYPE=image/jpeg:https://www.pacificzen.org/wp-content/uploads/2023/02/fallSesshin-LealCALENDAR.jpg
END:VEVENT
BEGIN:VEVENT
DTSTART;TZID=America/Los_Angeles:20231027T060000
DTEND;TZID=America/Los_Angeles:20231027T210000
DTSTAMP:20260425T064835
CREATED:20230912T185152Z
LAST-MODIFIED:20230912T185153Z
UID:10001566-1698386400-1698440400@www.pacificzen.org
SUMMARY:PZI Great Fall Sesshin in Session
DESCRIPTION:Great Fall Sesshin Is in Session: All of Autumn Is in the One Leaf \nDAY FOUR \nIn Person with John Tarrant & PZI Teachers\nSanta Sabina Center\nSan Rafael\, CA \nOctober 24–29\, 2023
URL:https://www.pacificzen.org/event/pzi-great-fall-sesshin-in-session-2-2-2/
LOCATION:Santa Sabina Center\, 25 Magnolia Avenue\, San Rafael\, CA\, 94901\, United States
CATEGORIES:PZI Retreats,Sesshin
ATTACH;FMTTYPE=image/jpeg:https://www.pacificzen.org/wp-content/uploads/2023/02/fallSesshin-LealCALENDAR.jpg
END:VEVENT
BEGIN:VEVENT
DTSTART;TZID=America/Los_Angeles:20231026T060000
DTEND;TZID=America/Los_Angeles:20231026T210000
DTSTAMP:20260425T064835
CREATED:20230912T185055Z
LAST-MODIFIED:20230912T185056Z
UID:10001565-1698300000-1698354000@www.pacificzen.org
SUMMARY:PZI Great Fall Sesshin in Session
DESCRIPTION:Great Fall Sesshin Is in Session: All of Autumn Is in the One Leaf \nDAY THREE \nIn Person with John Tarrant & PZI Teachers\nSanta Sabina Center\nSan Rafael\, CA \nOctober 24–29\, 2023
URL:https://www.pacificzen.org/event/pzi-great-fall-sesshin-in-session-2-2/
LOCATION:Santa Sabina Center\, 25 Magnolia Avenue\, San Rafael\, CA\, 94901\, United States
CATEGORIES:PZI Retreats,Sesshin
ATTACH;FMTTYPE=image/jpeg:https://www.pacificzen.org/wp-content/uploads/2023/02/fallSesshin-LealCALENDAR.jpg
END:VEVENT
BEGIN:VEVENT
DTSTART;TZID=America/Los_Angeles:20231025T060000
DTEND;TZID=America/Los_Angeles:20231025T210000
DTSTAMP:20260425T064835
CREATED:20230912T184754Z
LAST-MODIFIED:20230912T184754Z
UID:10001560-1698213600-1698267600@www.pacificzen.org
SUMMARY:PZI Great Fall Sesshin in Session
DESCRIPTION:Great Fall Sesshin Is in Session: All of Autumn Is in the One Leaf \nDAY TWO \nIn Person with John Tarrant & PZI Teachers\nSanta Sabina Center\nSan Rafael\, CA \nOctober 24–29\, 2023
URL:https://www.pacificzen.org/event/pzi-great-fall-sesshin-in-session-2/
LOCATION:Santa Sabina Center\, 25 Magnolia Avenue\, San Rafael\, CA\, 94901\, United States
CATEGORIES:PZI Retreats,Sesshin
ATTACH;FMTTYPE=image/jpeg:https://www.pacificzen.org/wp-content/uploads/2023/02/fallSesshin-LealCALENDAR.jpg
END:VEVENT
BEGIN:VEVENT
DTSTART;TZID=America/Los_Angeles:20231024T163000
DTEND;TZID=America/Los_Angeles:20231024T210000
DTSTAMP:20260425T064835
CREATED:20230912T183730Z
LAST-MODIFIED:20230912T184602Z
UID:10001559-1698165000-1698181200@www.pacificzen.org
SUMMARY:PZI Great Fall Sesshin in Session
DESCRIPTION:Great Fall Sesshin Is in Session: All of Autumn Is in the One Leaf \nOPENING DAY \nIn Person with John Tarrant & PZI Teachers\nSanta Sabina Center\nSan Rafael\, CA \nOctober 24–29\, 2023
URL:https://www.pacificzen.org/event/pzi-great-fall-sesshin-in-session/
LOCATION:Santa Sabina Center\, 25 Magnolia Avenue\, San Rafael\, CA\, 94901\, United States
CATEGORIES:PZI Retreats,Sesshin
ATTACH;FMTTYPE=image/jpeg:https://www.pacificzen.org/wp-content/uploads/2023/02/fallSesshin-LealCALENDAR.jpg
END:VEVENT
BEGIN:VEVENT
DTSTART;VALUE=DATE:20231024
DTEND;VALUE=DATE:20231030
DTSTAMP:20260425T064835
CREATED:20230222T175203Z
LAST-MODIFIED:20231025T163249Z
UID:10001082-1698105600-1698623999@www.pacificzen.org
SUMMARY:CLOSED: 2023 IN-PERSON Fall Sesshin with John Tarrant & PZI Teachers – All of Autumn Is in the One Leaf
DESCRIPTION:CLOSED \n\n\nGreat Fall Sesshin: All of Autumn Is in the One Leaf\nIn Person with John Tarrant & PZI Teachers \n\nSanta Sabina Retreat Center\nin Northern California\nOctober 24–29\, 2023\n \n  \n  \n  \n\nOur Fall Sesshin: \n\nThere will be personal interviews and deep meditation\, teaching talks and some conversations\,\nold friends and new\, brilliant teachers\, music\, great enlightenment\, mistakes\, and delight. \nWith PZI Teachers: John Tarrant \, Allison Atwill\, Tess Beasley\, Jon Joseph\, and David Weinstein\n\nHOP: Todd Geist\, Jan Brogan Time-keeper\n\nRegistrar: Lora Ferguson \n\n\nThis is a 6-day and 5-night in-person gathering beginning Tuesday\, October 24th at 4:00 pm\,\nand completing Sunday\, October 29th at 12:00 pm. \nWhere: Santa Sabina Retreat Center in Northern California \nSanta Sabina Center\n25 Magnolia Ave\nSan Rafael\, CA 94901 \n\n  \n  \n\nDear PZI Friends — We come together across oceans and continents with our members\, teachers\, musicians\, and those new to PZI. We discover things together which we could not discover alone. There’s a scholarship fund for PZI members who want to attend and need financial aid. If you’re not a member\, we invite you to join us today! \nThank you for all you have offered PZI over these many months and decades.\nIt’s nice to have each other as we find our way. \n—Board President Tess Beasley Roshi & Director John Tarrant Roshi\, & All of Us at PZI
URL:https://www.pacificzen.org/event/save-the-dates-2023-in-person-fall-sesshin-with-john-tarrant-pzi-teachers-all-of-autumn-is-in-the-one-leaf/
LOCATION:Santa Sabina Center\, 25 Magnolia Avenue\, San Rafael\, CA\, 94901\, United States
CATEGORIES:PZI Retreats,Sesshin
ATTACH;FMTTYPE=image/jpeg:https://www.pacificzen.org/wp-content/uploads/2023/02/fallSesshin-LealCALENDAR.jpg
END:VEVENT
BEGIN:VEVENT
DTSTART;TZID=America/Los_Angeles:20230618T060000
DTEND;TZID=America/Los_Angeles:20230618T120000
DTSTAMP:20260425T064835
CREATED:20230516T190051Z
LAST-MODIFIED:20230530T231224Z
UID:10001248-1687068000-1687089600@www.pacificzen.org
SUMMARY:PZI Summer Sesshin in Session
DESCRIPTION:
URL:https://www.pacificzen.org/event/pzi-summer-sesshin-in-session-20/
LOCATION:Santa Sabina Center\, 25 Magnolia Avenue\, San Rafael\, CA\, 94901\, United States
CATEGORIES:PZI Retreats,Sesshin
ATTACH;FMTTYPE=image/jpeg:https://www.pacificzen.org/wp-content/uploads/2023/02/summerDawn400.jpg
END:VEVENT
BEGIN:VEVENT
DTSTART;TZID=America/Los_Angeles:20230617T060000
DTEND;TZID=America/Los_Angeles:20230617T210000
DTSTAMP:20260425T064835
CREATED:20230516T185915Z
LAST-MODIFIED:20230530T231101Z
UID:10001247-1686981600-1687035600@www.pacificzen.org
SUMMARY:PZI Summer Sesshin in Session
DESCRIPTION:
URL:https://www.pacificzen.org/event/pzi-summer-sesshin-in-session-19/
LOCATION:Santa Sabina Center\, 25 Magnolia Avenue\, San Rafael\, CA\, 94901\, United States
CATEGORIES:PZI Retreats,Sesshin
ATTACH;FMTTYPE=image/jpeg:https://www.pacificzen.org/wp-content/uploads/2023/02/summerDawn400.jpg
END:VEVENT
BEGIN:VEVENT
DTSTART;TZID=America/Los_Angeles:20230616T060000
DTEND;TZID=America/Los_Angeles:20230616T210000
DTSTAMP:20260425T064835
CREATED:20230516T185800Z
LAST-MODIFIED:20230530T231141Z
UID:10001246-1686895200-1686949200@www.pacificzen.org
SUMMARY:PZI Summer Sesshin in Session
DESCRIPTION:
URL:https://www.pacificzen.org/event/pzi-summer-sesshin-in-session-18/
LOCATION:Santa Sabina Center\, 25 Magnolia Avenue\, San Rafael\, CA\, 94901\, United States
CATEGORIES:PZI Retreats,Sesshin
ATTACH;FMTTYPE=image/jpeg:https://www.pacificzen.org/wp-content/uploads/2023/02/summerDawn400.jpg
END:VEVENT
BEGIN:VEVENT
DTSTART;TZID=America/Los_Angeles:20230615T060000
DTEND;TZID=America/Los_Angeles:20230615T210000
DTSTAMP:20260425T064835
CREATED:20230516T185626Z
LAST-MODIFIED:20230530T231020Z
UID:10001245-1686808800-1686862800@www.pacificzen.org
SUMMARY:PZI Summer Sesshin in Session
DESCRIPTION:
URL:https://www.pacificzen.org/event/pzi-summer-sesshin-in-session-17/
LOCATION:Santa Sabina Center\, 25 Magnolia Avenue\, San Rafael\, CA\, 94901\, United States
CATEGORIES:PZI Retreats,Sesshin
ATTACH;FMTTYPE=image/jpeg:https://www.pacificzen.org/wp-content/uploads/2023/02/summerDawn400.jpg
END:VEVENT
BEGIN:VEVENT
DTSTART;TZID=America/Los_Angeles:20230614T060000
DTEND;TZID=America/Los_Angeles:20230614T210000
DTSTAMP:20260425T064835
CREATED:20230516T185501Z
LAST-MODIFIED:20230530T230943Z
UID:10001244-1686722400-1686776400@www.pacificzen.org
SUMMARY:PZI Summer Sesshin in Session
DESCRIPTION:
URL:https://www.pacificzen.org/event/pzi-summer-sesshin-in-session-16/
LOCATION:Santa Sabina Center\, 25 Magnolia Avenue\, San Rafael\, CA\, 94901\, United States
CATEGORIES:PZI Retreats,Sesshin
ATTACH;FMTTYPE=image/jpeg:https://www.pacificzen.org/wp-content/uploads/2023/02/summerDawn400.jpg
END:VEVENT
BEGIN:VEVENT
DTSTART;TZID=America/Los_Angeles:20230613T060000
DTEND;TZID=America/Los_Angeles:20230613T210000
DTSTAMP:20260425T064835
CREATED:20230516T185256Z
LAST-MODIFIED:20230530T230906Z
UID:10001243-1686636000-1686690000@www.pacificzen.org
SUMMARY:PZI Summer Sesshin in Session
DESCRIPTION:
URL:https://www.pacificzen.org/event/pzi-summer-sesshin-in-session-15/
LOCATION:Santa Sabina Center\, 25 Magnolia Avenue\, San Rafael\, CA\, 94901\, United States
CATEGORIES:PZI Retreats,Sesshin
ATTACH;FMTTYPE=image/jpeg:https://www.pacificzen.org/wp-content/uploads/2023/02/summerDawn400.jpg
END:VEVENT
BEGIN:VEVENT
DTSTART;TZID=America/Los_Angeles:20230612T193000
DTEND;TZID=America/Los_Angeles:20230618T120000
DTSTAMP:20260425T064835
CREATED:20221018T172142Z
LAST-MODIFIED:20230619T064722Z
UID:10001157-1686598200-1687089600@www.pacificzen.org
SUMMARY:CLOSED: Great Summer Sesshin with John Tarrant & Friends - Creatures of the Summer Dawn
DESCRIPTION:Creatures of the Summer Dawn \n\nGreat Summer Sesshin\nIn Person with John Tarrant & PZI Teachers \n\nSanta Sabina Retreat Center\nin Northern California\nJune 12–18\, 2023 \nFox and buffalo\, dogs and flesh eating demons\, ghosts\, people divided into two beings\, tigers who befriend Chan masters\, dragons\, learned tea ladies—all appear in our koan stories. Also there are refugees\, exiles\, widows\, people having secret love affairs\, all creatures of the summer dawn\, each having their place in the totality of things. And their beauty too. \nIt’s good to spend time with people who aren’t people\, and people who are. \nIn the Zen tradition\, animals and demons and ghosts all have buddha nature and there are koans about their journeys\, which are like ours. I had a dog who came out at night to sit with me\, leaning against my body as we sat. I have had other wild creatures\, such as echidnas\, birds\, and snakes approach me while sitting. \nWhen I went to visit a friend in Mendocino\, a raven swooped low to greet us. I nodded and we went in. Great horned owls and red-tailed hawks occupy the trees around our temple home and note\, and sometimes comment on\, our comings and goings. \nAll these creatures are present in our waking consciousness\, but also they move around and call for us in our dreams and sleep. They occupy a place in the deeps where we enter the koan lands. \nJoin us for an exploration of our own true nature. \n—John Tarrant \n\n\nOur Summer Sesshin: \nThere will be personal interviews and deep meditation\, teaching talks and some conversations\, old friends and new\, brilliant teachers\, music\, great enlightenment\, mistakes\, and delight. \nThis is an extended 7-day & 6-night in-person gathering beginning Monday June 12th at 4:30 pm\, and completing Sunday June 18th at 12:00 pm. \n\n—with PZI Teachers: John Tarrant\, Allison Atwill\, Tess Beasley\, Jon Joseph\n& David Weinstein \n \n—with HOP Michelle Riddle & Registrar Marion Yakoushkin \n\n\n\n \nWhere: Santa Sabina Retreat Center in Northern California: \nSanta Sabina Center\n25 Magnolia Ave\nSan Rafael\, CA 94901 \n\nRetreat registration includes free access to PZI Summer Open Temple morning meditations. \n\n\nDear PZI Friends\, \nIn sesshin we come together with PZI members\, teachers\, musicians\, and those new to PZI. We can discover things which we could not discover alone. It’s nice to have each other as we find our way. Thank you for all you offer to PZI. \n—PZI Board President Tess Beasley Sensei & Director John Tarrant Roshi\, & All of us at PZI \n\n 
URL:https://www.pacificzen.org/event/closed-great-summer-sesshin-with-john-tarrant-friends-creatures-of-the-summer-dawn/
LOCATION:Santa Sabina Center\, 25 Magnolia Avenue\, San Rafael\, CA\, 94901\, United States
CATEGORIES:PZI Retreats,Sesshin
ATTACH;FMTTYPE=image/jpeg:https://www.pacificzen.org/wp-content/uploads/2023/02/summerDawn400.jpg
END:VEVENT
BEGIN:VEVENT
DTSTART;TZID=America/Los_Angeles:20230612T163000
DTEND;TZID=America/Los_Angeles:20230612T210000
DTSTAMP:20260425T064835
CREATED:20230516T185043Z
LAST-MODIFIED:20230530T230826Z
UID:10001242-1686587400-1686603600@www.pacificzen.org
SUMMARY:PZI Summer Sesshin in Session
DESCRIPTION:
URL:https://www.pacificzen.org/event/pzi-summer-sesshin-in-session-14/
LOCATION:Santa Sabina Center\, 25 Magnolia Avenue\, San Rafael\, CA\, 94901\, United States
CATEGORIES:PZI Retreats,Sesshin
ATTACH;FMTTYPE=image/jpeg:https://www.pacificzen.org/wp-content/uploads/2023/02/summerDawn400.jpg
END:VEVENT
END:VCALENDAR