BEGIN:VCALENDAR
VERSION:2.0
PRODID:-//Pacific Zen Institute - ECPv6.15.17.1//NONSGML v1.0//EN
CALSCALE:GREGORIAN
METHOD:PUBLISH
X-ORIGINAL-URL:https://www.pacificzen.org
X-WR-CALDESC:Events for Pacific Zen Institute
REFRESH-INTERVAL;VALUE=DURATION:PT1H
X-Robots-Tag:noindex
X-PUBLISHED-TTL:PT1H
BEGIN:VTIMEZONE
TZID:America/Los_Angeles
BEGIN:DAYLIGHT
TZOFFSETFROM:-0800
TZOFFSETTO:-0700
TZNAME:PDT
DTSTART:20210314T100000
END:DAYLIGHT
BEGIN:STANDARD
TZOFFSETFROM:-0700
TZOFFSETTO:-0800
TZNAME:PST
DTSTART:20211107T090000
END:STANDARD
BEGIN:DAYLIGHT
TZOFFSETFROM:-0800
TZOFFSETTO:-0700
TZNAME:PDT
DTSTART:20220313T100000
END:DAYLIGHT
BEGIN:STANDARD
TZOFFSETFROM:-0700
TZOFFSETTO:-0800
TZNAME:PST
DTSTART:20221106T090000
END:STANDARD
BEGIN:DAYLIGHT
TZOFFSETFROM:-0800
TZOFFSETTO:-0700
TZNAME:PDT
DTSTART:20230312T100000
END:DAYLIGHT
BEGIN:STANDARD
TZOFFSETFROM:-0700
TZOFFSETTO:-0800
TZNAME:PST
DTSTART:20231105T090000
END:STANDARD
BEGIN:DAYLIGHT
TZOFFSETFROM:-0800
TZOFFSETTO:-0700
TZNAME:PDT
DTSTART:20240310T100000
END:DAYLIGHT
BEGIN:STANDARD
TZOFFSETFROM:-0700
TZOFFSETTO:-0800
TZNAME:PST
DTSTART:20241103T090000
END:STANDARD
BEGIN:DAYLIGHT
TZOFFSETFROM:-0800
TZOFFSETTO:-0700
TZNAME:PDT
DTSTART:20250309T100000
END:DAYLIGHT
BEGIN:STANDARD
TZOFFSETFROM:-0700
TZOFFSETTO:-0800
TZNAME:PST
DTSTART:20251102T090000
END:STANDARD
END:VTIMEZONE
BEGIN:VEVENT
DTSTART;TZID=America/Los_Angeles:20240429T040000
DTEND;TZID=America/Los_Angeles:20240628T070000
DTSTAMP:20260425T122320
CREATED:20240418T192809Z
LAST-MODIFIED:20240503T172746Z
UID:10001717-1714363200-1719558000@www.pacificzen.org
SUMMARY:OPEN TEMPLE: Into Summer 9-Week Meditation Pass – MEMBERS FREE
DESCRIPTION:REGISTER\nFREE to PZI Members!\nMorning Meditations 5 Days Weekly\nWherever you are in the world\, let’s sit together.\n \nOpen Temple Pass gives you unlimited access to two morning meditations\, Mondays–Fridays\, April 29–June 28\, 2024. All are welcome. PZI Members attend FREE. \nPractice leaders will ring the bells and hold a cushion for you. Join us! \n\nWeekday Schedule\nJoin in as you can\, as often as you like. \nSESSION 1 Sits in the East Temple: 7–8:00 AM Eastern Time\n(or 4–5 AM Pacific) \nSESSION 2 Sits in the West Temple: 6–7:00 AM Pacific Time\n(or 9–10 AM Eastern) \nCheck for weekly updates here  \n\nYour Temple Zoom Link\nThe recurring Zoom link for Open Temple access will be in your emailed receipt\, for entrance to ALL morning meditations. (stay tuned!) \nPZI Members FREE\, Non-Members $125 \nQuestions? Or to check your membership status\, contact Karin Pfluger \n\n\nNot a member of PZI? Now is your chance!  \nJoin us for free access to the Open Temple\, scholarships\, discounts for retreats\, our vast and growing library of dharma talks\, and other resources.\n \nBecome a Member\n 
URL:https://www.pacificzen.org/event/open-temple-into-summer-9-week-meditation-pass-pzi-members-free/
LOCATION:Open Temple Online\, United States
CATEGORIES:Open Temple
ATTACH;FMTTYPE=image/jpeg:https://www.pacificzen.org/wp-content/uploads/2024/05/Into-Summer-Open-Temple_500x375.jpg
END:VEVENT
BEGIN:VEVENT
DTSTART;TZID=America/Los_Angeles:20240304T040000
DTEND;TZID=America/Los_Angeles:20240426T070000
DTSTAMP:20260425T122320
CREATED:20240212T195932Z
LAST-MODIFIED:20240424T172318Z
UID:10001660-1709524800-1714114800@www.pacificzen.org
SUMMARY:OPEN TEMPLE: Early Spring 8-Week Meditation Pass – LAST DAYS
DESCRIPTION:REGISTER\nFREE to PZI Members!\nMorning Meditations 5 Days Weekly\nWherever you are in the world\, let’s sit together.\n \nOpen Temple Pass gives you unlimited access to two morning meditations\, Mondays–Fridays\, March 4–April 26\, 2024. All are welcome. PZI Members attend FREE. \nPractice leaders will ring the bells and hold a cushion for you. Join us! \n\nWeekday Schedule\nJoin in as you can\, as often as you like. \nSESSION 1 Sits in the East Temple: 7–8:00 AM Eastern Time\n(or 4–5 AM Pacific) \nSESSION 2 Sits in the West Temple: 6–7:00 AM Pacific Time\n(or 9–10 AM Eastern) \nGet weekly updates here \n\nYour Temple Zoom Link\nThe recurring Zoom link for Open Temple access will be in your emailed receipt\, for entrance to ALL morning meditations. \nPZI Members FREE\, Non-Members $125 \nQuestions? Or to check your membership status\, contact Karin Pfluger \n\n\nNot a member of PZI? Now is your chance!  \nJoin us for free access to the Open Temple\, scholarships\, discounts for retreats\, our vast and growing library of dharma talks\, and other resources.\n \nBecome a Member\n 
URL:https://www.pacificzen.org/event/open-temple-early-spring-meditation-pass-pzi-members-free/
LOCATION:Open Temple Online\, United States
CATEGORIES:Open Temple
ATTACH;FMTTYPE=image/jpeg:https://www.pacificzen.org/wp-content/uploads/2024/02/Birds-disappearing-AA_500x375.jpg
END:VEVENT
BEGIN:VEVENT
DTSTART;TZID=America/Los_Angeles:20240108T040000
DTEND;TZID=America/Los_Angeles:20240216T070000
DTSTAMP:20260425T122320
CREATED:20231214T183615Z
LAST-MODIFIED:20240213T185244Z
UID:10001635-1704686400-1708066800@www.pacificzen.org
SUMMARY:LAST DAYS: New Year's Winter Meditation Pass – PZI MEMBERS FREE
DESCRIPTION:REGISTER\nFREE to PZI Members!\nMorning Meditations 5 Days Weekly\nWherever you are in the world\, let’s sit together.\n \nOpen Temple Pass gives you unlimited access to two morning meditations\, Mondays–Fridays\, January 8th–February 16th\, 2024. All are welcome. PZI Members attend FREE. \nPractice leaders will ring the bells and hold a cushion for you. Join us! \n\nWeekday Schedule\nJoin in as you can\, as often as you like. \nSESSION 1 Sits in the East Temple: 7–8:00 AM Eastern Time\n(or 4–5 AM Pacific) \nSESSION 2 Sits in the West Temple: 6–7:00 AM Pacific Time\n(or 9–10 AM Eastern) \nGet weekly updates here \n\nYour Temple Zoom Link\nThe recurring Zoom link for Open Temple access will be in your emailed receipt\, for entrance to ALL morning meditations. \nPZI Members FREE\, Non-Members $125 \nQuestions? Or to check your membership status\, contact Karin Pfluger \nREGISTER\n\n\nNot a member of PZI? Now is your chance!  \nJoin us for free access to the Open Temple\, scholarships\, discounts for retreats\, our vast and growing library of dharma talks\, and other resources.\n \nBecome a Member\n 
URL:https://www.pacificzen.org/event/open-temple-new-years-winter-meditation-pass-pzi-members-free/
LOCATION:Open Temple Online\, United States
CATEGORIES:Open Temple
ATTACH;FMTTYPE=image/jpeg:https://www.pacificzen.org/wp-content/uploads/2023/12/WinterOT2024_500x375.jpg
END:VEVENT
BEGIN:VEVENT
DTSTART;TZID=America/Los_Angeles:20231106T040000
DTEND;TZID=America/Los_Angeles:20240105T070000
DTSTAMP:20260425T122320
CREATED:20231030T164642Z
LAST-MODIFIED:20240101T184550Z
UID:10001597-1699243200-1704438000@www.pacificzen.org
SUMMARY:LAST WEEK! Into Winter Open Temple – PZI MEMBERS FREE
DESCRIPTION:REGISTER\n\nFREE to PZI Members!\nMorning Meditations 5 Days Weekly\nWherever you are in the world\, let’s sit together.\n \nOpen Temple Pass gives you unlimited access to two morning meditations\, Mondays–Fridays\, November 6th\, 2023–January 5th\, 2024. All are welcome. PZI Members attend FREE. \nLAST WEEK! ENDS JANUARY 5TH. \nPractice leaders will ring the bells and hold a cushion for you. Join us! \n\nWeekday Schedule\nJoin in as you can\, as often as you like. \nSESSION 1 Sits in the East Temple: 7–8:00 AM Eastern Time\n(or 4–5 AM Pacific) \nSESSION 2 Sits in the West Temple: 6–7:00 AM Pacific Time\n(or 9–10 AM Eastern) \nGet weekly updates here \n\nYour Temple Zoom Link\nThe recurring Zoom link for Open Temple access will be in your emailed receipt\, for entrance to ALL morning meditations. \nPZI Members FREE\, Non-Members $125 \nQuestions? Or to check your membership status\, contact Jan Black \n\n\nNot a member of PZI? Now is your chance!  \nJoin us for free access to the Open Temple\, scholarships\, discounts for retreats\, our vast and growing library of dharma talks\, and other resources.\n \nBecome a Member
URL:https://www.pacificzen.org/event/open-temple-into-winter-meditation-pass-pzi-members-free/
LOCATION:Open Temple Online\, United States
CATEGORIES:Open Temple
ATTACH;FMTTYPE=image/png:https://www.pacificzen.org/wp-content/uploads/2023/10/WinterOT_500x375.png
END:VEVENT
BEGIN:VEVENT
DTSTART;TZID=America/Los_Angeles:20230703T040000
DTEND;TZID=America/Los_Angeles:20230728T070000
DTSTAMP:20260425T122320
CREATED:20230613T222724Z
LAST-MODIFIED:20230723T183559Z
UID:10001253-1688356800-1690527600@www.pacificzen.org
SUMMARY:LAST WEEK! OPEN TEMPLE: Summer 1-Month Meditation Pass – PZI MEMBERS FREE
DESCRIPTION:REGISTER\n\nFREE to PZI Members!\nMorning Meditations 5 Days Weekly\nWherever you are in the world\, let’s sit together.\n \nOpen Temple Pass gives you unlimited access to two morning meditations\, Mondays–Fridays\, July 3rd–28th\, 2023. All are welcome. PZI Members attend FREE. \nPractice leaders will ring the bells and hold a cushion for you. Join us! \n\nWeekday Schedule\nJoin in as you can\, as often as you like. \nSESSION 1 Sits in the East Temple: 7–8:00 AM Eastern Time\n(or 4–5 AM Pacific) \nSESSION 2 Sits in the West Temple: 6–7:00 AM Pacific Time\n(or 9–10 AM Eastern) \nGet the weekly Temple Details here. \n\nYour Temple Zoom Link\nThe recurring Zoom link for Open Temple access will be in your emailed receipt\, for entrance to ALL morning meditations. \nPZI Members FREE\, Non-Members $125 \nQuestions? Or to check your membership status\, contact Corey Hitchcock \nREGISTER\n\n\nNot a member of PZI? Now is your chance!  \nGet access to the Open Temple\, scholarships\, discounts for retreats\, our vast and growing library of dharma talks\, and other resources.\n \nBecome a Member\n 
URL:https://www.pacificzen.org/event/open-temple-summer-1-month-meditation-pass-pzi-members-free/
LOCATION:Open Temple Online\, United States
CATEGORIES:Open Temple
ATTACH;FMTTYPE=image/jpeg:https://www.pacificzen.org/wp-content/uploads/2023/06/summerClouds-OT-GustaveBaumannCALENDAR.jpg
END:VEVENT
BEGIN:VEVENT
DTSTART;TZID=America/Los_Angeles:20230501T040000
DTEND;TZID=America/Los_Angeles:20230630T070000
DTSTAMP:20260425T122320
CREATED:20230426T180851Z
LAST-MODIFIED:20230626T173018Z
UID:10001226-1682913600-1688108400@www.pacificzen.org
SUMMARY:OPEN TEMPLE: Into Summer 2-Month Meditation Pass – FINAL WEEK
DESCRIPTION:FREE to PZI Members!\nFINAL WEEK: Morning Meditations 5 Days Weekly\nWherever you are in the world\, let’s sit together.\n \nOpen Temple Pass gives you unlimited access to two morning meditations\, Mondays–Fridays\, May 1st–June 30th\, 2023. All are welcome. PZI Members attend FREE. \nPractice leaders will ring the bells and hold a cushion for you. Join us! \nREGISTER\n\nWeekday Temple Schedule\nJoin in as you can\, as often as you like. \nSESSION 1 Sits in the East Temple: 7–8:00 AM Eastern Time\n(or 4–5 AM Pacific) \nSESSION 2 Sits in the West Temple: 6–7:00 AM Pacific Time\n(or 9–10 AM Eastern) \nGet the weekly Temple Details here. \n\nYour Temple Zoom Link\nThe recurring Zoom link for Open Temple access will be in your emailed receipt\, for entrance to ALL morning meditations. \nPZI Members FREE\, Non-Members $125 \nQuestions? Or to check your membership status\, contact Corey Hitchcock \nREGISTER\n\n\nNot a member of PZI? Now is your chance!  \nJoin for as low as $15/mo for free access to the Open Temple\, scholarships\, discounts for retreats\, our vast and growing library of dharma talks\, and other resources.\n \nBecome a Member\n 
URL:https://www.pacificzen.org/event/open-temple-into-summer-2-month-meditation-pass-pzi-members-free/
LOCATION:Open Temple Online\, United States
CATEGORIES:Open Temple
ATTACH;FMTTYPE=image/jpeg:https://www.pacificzen.org/wp-content/uploads/2023/04/early-summer-hiroshigeMC-e1682440202879.jpg
END:VEVENT
BEGIN:VEVENT
DTSTART;TZID=America/Los_Angeles:20230306T040000
DTEND;TZID=America/Los_Angeles:20230428T070000
DTSTAMP:20260425T122320
CREATED:20230228T185906Z
LAST-MODIFIED:20230424T165628Z
UID:10001083-1678075200-1682665200@www.pacificzen.org
SUMMARY:FINAL WEEK: EARLY SPRING OPEN TEMPLE Meditation Pass: PZI Members FREE
DESCRIPTION:REGISTER\nFREE to PZI Members!\n\n\n\n\n\n\n\n\n\n\n\n\n\nEarly Spring Open Temple\nMorning Meditations 5 Days Weekly\n\nWhat a gift it is to gather together in silence and hear the bell.\n\nEarly Spring Open Temple Pass allows unlimited access to two morning meditation sessions Mondays–Fridays\, March 6th–April 28th\, 2023. There’s a cushion for you in the Temple! All are welcome. \n\n\nWeekday Temple Schedule\nTemple East\, Session 1: 7–8:00 am Eastern Time\n(or 4–5:00 am Pacific Time) \n\n\nTemple West\, Session 2: 6–7:00 am Pacific Time\n(or 9–10:00 am Eastern Time) \nSee the detailed Temple Schedule here. \n\n\nYour Zoom link for all Open Temple sessions is in your emailed receipt\, for weekday entrance to morning meditations\, Mondays–Fridays. Join in as you can\, as often as you wish. \n\nQuestions? or to check your membership status\, contact Corey Hitchcock \n\n\nPZI Members FREE\, Non-Members $125 \nREGISTER\n\n\n\nNot a member of PZI? Now is your chance! Join for as low as $15/mo for free access to the Open Temple\, discounts for retreats\, scholarships\, our vast and growing library of dharma talks\, and other resources.\n \nJoin us here.
URL:https://www.pacificzen.org/event/early-spring-open-temple-2-month-meditation-pass-free-for-pzi-members/
LOCATION:Open Temple Online\, United States
CATEGORIES:Open Temple
ATTACH;FMTTYPE=image/jpeg:https://www.pacificzen.org/wp-content/uploads/2023/02/earlySpringOPENTEMPLE_CALENDAR.jpg
END:VEVENT
BEGIN:VEVENT
DTSTART;TZID=America/Los_Angeles:20230102T040000
DTEND;TZID=America/Los_Angeles:20230203T100000
DTSTAMP:20260425T122320
CREATED:20221217T204723Z
LAST-MODIFIED:20230131T171826Z
UID:10001183-1672632000-1675418400@www.pacificzen.org
SUMMARY:LAST DAYS! NEW YEAR'S OPEN TEMPLE: 1-Month Meditation Pass - FREE for PZI Members
DESCRIPTION:REGISTER\n\n\n\n\n\n\n\n\n\n\n\n\n\n\n\n\n\n\n\nLAST DAYS: through February 3rd\nFREE to PZI Members!\n\n\n\n\n\n\n\n\n\n\n\n\nNew Year’s Open Temple\nMorning Meditations 5 Days Weekly\n\nWhat a gift it is to gather together in silence and hear the bell.\n\nNew Year’s Open Temple Pass allows unlimited access to two morning meditation sessions Mondays–Fridays\, January 2nd–February 3rd\, 2023. There’s a cushion for you in the Temple! All are welcome. \n\n\nWeekday Temple Schedule\nTemple East\, Session 1: 7–8:00 am Eastern Time\n(or 4–5:00 am PST) \n\n\nTemple West\, Session 2: 6–7:00 am Pacific Time\n(or 9–10:00 am EST) \nSee the detailed Temple Schedule here. \n\n\nYour Zoom link for all Open Temple sessions is in your emailed receipt\, for weekday entrance to morning meditations\, Mondays–Fridays. Join in as you can\, as often as you wish. \n\nQuestions? or to check your membership status\, contact Corey Hitchcock \n\n\nPZI Members FREE\, Non-Members $125 \n\n\n\nNot a member of PZI? Now is your chance! Join for as low as $15/mo for free access to the Open Temple\, discounts for retreats\, scholarships\, our vast and growing library of dharma talks\, and other resources.\n \nJoin us here.
URL:https://www.pacificzen.org/event/new-years-open-temple-1-month-meditation-pass-free-for-pzi-members/
LOCATION:Open Temple Online\, United States
CATEGORIES:Open Temple
ATTACH;FMTTYPE=image/jpeg:https://www.pacificzen.org/wp-content/uploads/2022/11/WinterOT-CALENDAR.jpg
END:VEVENT
BEGIN:VEVENT
DTSTART;TZID=America/Los_Angeles:20230101T040000
DTEND;TZID=America/Los_Angeles:20230101T080000
DTSTAMP:20260425T122320
CREATED:20221220T180546Z
LAST-MODIFIED:20221230T234049Z
UID:10001068-1672545600-1672560000@www.pacificzen.org
SUMMARY:SUNDAY SPECIAL: New Year's Morning Open Temple for PZI Membership
DESCRIPTION:GET ZOOM LINK FROM PZI TALK EMAIL \n\nDear PZI Members— \nWherever you are in the world\, let’s sit together.  \nWith special thanks to our practice leaders who will hold a cushion for you and ring the bells! \nNew Year’s Morning Schedule \n7–8:00 am EST (4–5:00 am PST): Holly Maiz\n8–9:00 am EST (5–6:00 am PST): Marion Power\n9–10:00 am EST (6–7:00 am PST): Jan Black\n10–11:00 am EST (7–8:00 am PST): Corey Hitchcock \nJoin in as you can\, whether East or West —drop in or attend them all! \nWarmest wishes from all of us at PZI
URL:https://www.pacificzen.org/event/sunday-special-new-years-morning-open-temple-for-pzi-membership/
LOCATION:Open Temple Online\, United States
CATEGORIES:Open Temple
ATTACH;FMTTYPE=image/jpeg:https://www.pacificzen.org/wp-content/uploads/2022/12/deer_winterCALENDAR.jpg
END:VEVENT
BEGIN:VEVENT
DTSTART;TZID=America/Los_Angeles:20221225T040000
DTEND;TZID=America/Los_Angeles:20221225T080000
DTSTAMP:20260425T122320
CREATED:20221213T225324Z
LAST-MODIFIED:20221219T225739Z
UID:10001062-1671940800-1671955200@www.pacificzen.org
SUMMARY:SUNDAY SPECIAL: Xmas Morning Open Temple for PZI Membership
DESCRIPTION:GET YOUR LINK IN MEMBERSHIP EMAIL \n\nDear Friends— \nWherever you are in the world\, let’s sit together.  \nWith special thanks to our PZI leaders who will be holding a cushion for you and ringing the bells! \nChristmas Morning Schedule \n7–8:00 am ET (4–5:00 am PT): Holly Maiz\n8–9:00 am ET (5–6:00 am PT): Meredith Pate-Willig\n9–10:00 am ET (6–7:00 am PT): Chris Gaffney\n10–11:00 am ET (7–8:00 am PT): Eleanor Silberman \nJoin in as you can\, whether East or West —drop in or attend them all! \nWarmest wishes from all of us at PZI
URL:https://www.pacificzen.org/event/sunday-special-xmas-morning-open-temple-for-pzi-membership/
LOCATION:Open Temple Online\, United States
CATEGORIES:PZI Zen Online
ATTACH;FMTTYPE=image/jpeg:https://www.pacificzen.org/wp-content/uploads/2022/12/temple-bellsXMAS-CALENDAR.jpg
END:VEVENT
BEGIN:VEVENT
DTSTART;TZID=America/Los_Angeles:20221003T040000
DTEND;TZID=America/Los_Angeles:20221104T070000
DTSTAMP:20260425T122320
CREATED:20220928T223546Z
LAST-MODIFIED:20221004T004822Z
UID:10001131-1664769600-1667545200@www.pacificzen.org
SUMMARY:OPEN TEMPLE: October 1-Month Meditation Pass
DESCRIPTION:REGISTER\n\nFREE to PZI Members!\n\n\n\n\n\n\n\n\n\n\n\n\n\nOctober Open Temple\nMorning Meditations 5 Days Weekly\n+ Night Owls\nWhat a gift it is to gather together in silence and hear the bell. With this in mind\, we’re keeping our Online Temple doors open for weekday meditation\, from October 3rd–November 4th\, 2022.\n \nOctober Open Temple Pass allows unlimited access to two morning meditation sessions five days a week\, Mondays–Fridays. Stay tuned for Monday & Wednesday Night Owl sessions. \nThere’s a cushion for you in the Temple! All are welcome.\nWe love it when you join us. \n\nWeekday Temple Schedule\nTemple East\, Session 1: 7–8:00 am Eastern Time\n(or 4–5:00 am PDT) \nTemple West\, Session 2: 6–7:00 am Pacific Time\n(or 9–10:00 am EDT) \nNight Owl Temple: 9:30–10:30 pm Pacific Time\n(or 11:30 pm–12:30 am Central Time) \nSee the detailed Temple Schedule here. \n\n\nYour Zoom link for all Open Temple sessions is in your emailed receipt\, giving you weekday entrance to the Temple for morning meditations\, Mondays–Fridays. (Stay tuned for Monday & Wednesday Night Owls.) Join in as you can\, as often as you wish. \n\nQuestions? Contact Corey Hitchcock \n\n\nPZI Members FREE\, Non-Members $125 \nREGISTER\n\n\n\nNot a member of PZI? Now is your chance! Join us for as low as $15/mo for free access to the Open Temple\, discounts for retreats\, scholarships\, our vast and growing library of dharma talks\, and other resources.\n \nJoin us here.
URL:https://www.pacificzen.org/event/open-temple-october-1-month-meditation-pass/
LOCATION:Open Temple Online\, United States
CATEGORIES:Open Temple
ATTACH;FMTTYPE=image/jpeg:https://www.pacificzen.org/wp-content/uploads/2022/09/octoberOpenTempleCALENDAR500x375.jpg
END:VEVENT
END:VCALENDAR