BEGIN:VCALENDAR
VERSION:2.0
PRODID:-//Pacific Zen Institute - ECPv6.15.17.1//NONSGML v1.0//EN
CALSCALE:GREGORIAN
METHOD:PUBLISH
X-WR-CALNAME:Pacific Zen Institute
X-ORIGINAL-URL:https://www.pacificzen.org
X-WR-CALDESC:Events for Pacific Zen Institute
REFRESH-INTERVAL;VALUE=DURATION:PT1H
X-Robots-Tag:noindex
X-PUBLISHED-TTL:PT1H
BEGIN:VTIMEZONE
TZID:America/Los_Angeles
BEGIN:DAYLIGHT
TZOFFSETFROM:-0800
TZOFFSETTO:-0700
TZNAME:PDT
DTSTART:20250309T100000
END:DAYLIGHT
BEGIN:STANDARD
TZOFFSETFROM:-0700
TZOFFSETTO:-0800
TZNAME:PST
DTSTART:20251102T090000
END:STANDARD
BEGIN:DAYLIGHT
TZOFFSETFROM:-0800
TZOFFSETTO:-0700
TZNAME:PDT
DTSTART:20260308T100000
END:DAYLIGHT
BEGIN:STANDARD
TZOFFSETFROM:-0700
TZOFFSETTO:-0800
TZNAME:PST
DTSTART:20261101T090000
END:STANDARD
BEGIN:DAYLIGHT
TZOFFSETFROM:-0800
TZOFFSETTO:-0700
TZNAME:PDT
DTSTART:20270314T100000
END:DAYLIGHT
BEGIN:STANDARD
TZOFFSETFROM:-0700
TZOFFSETTO:-0800
TZNAME:PST
DTSTART:20271107T090000
END:STANDARD
END:VTIMEZONE
BEGIN:VEVENT
DTSTART;TZID=America/Los_Angeles:20260316T040000
DTEND;TZID=America/Los_Angeles:20260508T070000
DTSTAMP:20260424T135831
CREATED:20260305T155910Z
LAST-MODIFIED:20260313T135833Z
UID:10002329-1773633600-1778223600@www.pacificzen.org
SUMMARY:OPEN TEMPLE: 8-Week Spring Meditation Pass
DESCRIPTION:REGISTER\n\nFREE to PZI Members!\nMorning Meditations 5 Days Weekly\nWherever you are in the world\, let’s sit together.\n \nOpen Temple Pass gives you unlimited access to two morning meditations\, Mondays–Fridays\,\nMarch 16th–May 8th\, 2026. All are welcome. PZI Members attend FREE.* \nPractice leaders will ring the bells and hold a cushion for you. Join us! \n*Open Temple will always remain free of cost as one of the benefits of PZI membership. However\, if you have the means and feel inclined\, donations of any size are immensely appreciated! Just click Add Something Else when checking out your cart. Thank you! \n\nWeekday Schedule\nJoin in as you can\, as often as you like. \nSESSION 1 Sits in the East Temple: 7–8:00 AM Eastern Time\n(or 4–5 AM Pacific) \nSESSION 2 Sits in the West Temple: 6–7:00 AM Pacific Time\n(or 9–10 AM Eastern) \n\nYour Temple Zoom Link\nThe recurring Zoom link for Open Temple access will be in your emailed receipt\,\nfor entrance to ALL morning meditations. \nPZI Members FREE\, Non-Members $125 \nQuestions? Or to check your membership status\, contact Lucas at PZI Support. \n\n\nNot a member of PZI? Now is your chance!  \nJoin us for free access to the Open Temple\, scholarships\, discounts for retreats\,\nour vast and growing library of dharma talks\, and other resources.\n \nBecome a Member
URL:https://www.pacificzen.org/event/ot-8-week-spring-meditation-pass/
LOCATION:PZI Online Temple
CATEGORIES:Open Temple
ATTACH;FMTTYPE=image/jpeg:https://www.pacificzen.org/wp-content/uploads/2026/03/Spring-boat_500.jpg
END:VEVENT
END:VCALENDAR