BEGIN:VCALENDAR
VERSION:2.0
PRODID:-//Pacific Zen Institute - ECPv6.15.17.1//NONSGML v1.0//EN
CALSCALE:GREGORIAN
METHOD:PUBLISH
X-WR-CALNAME:Pacific Zen Institute
X-ORIGINAL-URL:https://www.pacificzen.org
X-WR-CALDESC:Events for Pacific Zen Institute
REFRESH-INTERVAL;VALUE=DURATION:PT1H
X-Robots-Tag:noindex
X-PUBLISHED-TTL:PT1H
BEGIN:VTIMEZONE
TZID:America/Los_Angeles
BEGIN:DAYLIGHT
TZOFFSETFROM:-0800
TZOFFSETTO:-0700
TZNAME:PDT
DTSTART:20250309T100000
END:DAYLIGHT
BEGIN:STANDARD
TZOFFSETFROM:-0700
TZOFFSETTO:-0800
TZNAME:PST
DTSTART:20251102T090000
END:STANDARD
BEGIN:DAYLIGHT
TZOFFSETFROM:-0800
TZOFFSETTO:-0700
TZNAME:PDT
DTSTART:20260308T100000
END:DAYLIGHT
BEGIN:STANDARD
TZOFFSETFROM:-0700
TZOFFSETTO:-0800
TZNAME:PST
DTSTART:20261101T090000
END:STANDARD
BEGIN:DAYLIGHT
TZOFFSETFROM:-0800
TZOFFSETTO:-0700
TZNAME:PDT
DTSTART:20270314T100000
END:DAYLIGHT
BEGIN:STANDARD
TZOFFSETFROM:-0700
TZOFFSETTO:-0800
TZNAME:PST
DTSTART:20271107T090000
END:STANDARD
END:VTIMEZONE
BEGIN:VEVENT
DTSTART;TZID=America/Los_Angeles:20260428T180000
DTEND;TZID=America/Los_Angeles:20260428T193000
DTSTAMP:20260424T062127
CREATED:20260217T171841Z
LAST-MODIFIED:20260404T103123Z
UID:10002319-1777399200-1777404600@www.pacificzen.org
SUMMARY:TUESDAY ZEN with David Weinstein: ON BREAK
DESCRIPTION:Tuesday Zen is ON BREAK today\, and will return on May 12th. Join us then!\n\nEveryone is welcome here no matter how you are feeling\, where you come from\, what you believe.  \n—David Weinstein \n\nDavid Weinstein Roshi\n  \nCOME JOIN US on Tuesdays for koan meditation\, dharma talk and conversation.\nRegister to participate. All are welcome. \nDavid Weinstein Roshi\, Director of Rockridge Meditation Community \n 
URL:https://www.pacificzen.org/event/tuesday-zen-with-david-weinstein-75/
LOCATION:PZI Online Temple
CATEGORIES:PZI Zen Online
ATTACH;FMTTYPE=image/jpeg:https://www.pacificzen.org/wp-content/uploads/2021/06/wooden-bucketCALENDAR500x350.jpg
ORGANIZER;CN="David Weinstein Roshi":MAILTO:dweinstein@pacificzen.org
END:VEVENT
BEGIN:VEVENT
DTSTART;TZID=America/Los_Angeles:20260505T180000
DTEND;TZID=America/Los_Angeles:20260505T193000
DTSTAMP:20260424T062127
CREATED:20260404T104158Z
LAST-MODIFIED:20260404T104521Z
UID:10002338-1778004000-1778009400@www.pacificzen.org
SUMMARY:TUESDAY ZEN with David Weinstein: ON BREAK
DESCRIPTION:Tuesday Zen is ON BREAK today\, and will return on May 12th. Join us then!\n\nEveryone is welcome here no matter how you are feeling\, where you come from\, what you believe.  \n—David Weinstein \n\nDavid Weinstein Roshi\n  \nCOME JOIN US on Tuesdays for koan meditation\, dharma talk and conversation.\nRegister to participate. All are welcome. \nDavid Weinstein Roshi\, Director of Rockridge Meditation Community \n 
URL:https://www.pacificzen.org/event/tuesday-zen-with-david-weinstein-87/
LOCATION:PZI Online Temple
CATEGORIES:PZI Zen Online
ATTACH;FMTTYPE=image/jpeg:https://www.pacificzen.org/wp-content/uploads/2021/06/wooden-bucketCALENDAR500x350.jpg
ORGANIZER;CN="David Weinstein Roshi":MAILTO:dweinstein@pacificzen.org
END:VEVENT
BEGIN:VEVENT
DTSTART;TZID=America/Los_Angeles:20260509T080000
DTEND;TZID=America/Los_Angeles:20260509T100000
DTSTAMP:20260424T062127
CREATED:20260404T112315Z
LAST-MODIFIED:20260422T190651Z
UID:10002352-1778313600-1778320800@www.pacificzen.org
SUMMARY:SATURDAY ZEN: For PZI Members – Conversations with David Weinstein
DESCRIPTION:About Saturday Conversations \nDokusan is the Japanese word for these conversations about meditation practice. It means “to go alone” or “to practice alone.” It is to have a conversation so intimate\, that for both participants it is as if you were talking with and listening to yourself. \nThe word “conversation” (in place of the Japanese word dokusan) has its own way of speaking to the experience. \nEtymologically\, it means “to turn around together.” Meditation is often referred to as a turning around of our attention towards the inside. These conversations about meditation practice are an opportunity for a mutual turning the light around and exploring what’s there. \n—David Weinstein \n\nSaturday Conversations with David Weinstein Roshi\nOnline on Zoom from 8–10:00 am Pacific Time\nEvery two weeks\, schedule permitting \nIf you are a PZI Member and would like to have a conversation with David\,\nbook your 15-minute online meeting for May 9th here. \nDana gratefully accepted \nQuestions? Contact David
URL:https://www.pacificzen.org/event/saturday-zen-may-16th/
LOCATION:PZI Online Temple
CATEGORIES:Saturday Conversations
ATTACH;FMTTYPE=image/jpeg:https://www.pacificzen.org/wp-content/uploads/2024/09/Buddha-laying-down.jpg
ORGANIZER;CN="David Weinstein Roshi":MAILTO:dweinstein@pacificzen.org
END:VEVENT
BEGIN:VEVENT
DTSTART;TZID=America/Los_Angeles:20260512T180000
DTEND;TZID=America/Los_Angeles:20260512T193000
DTSTAMP:20260424T062127
CREATED:20260404T104117Z
LAST-MODIFIED:20260404T104117Z
UID:10002340-1778608800-1778614200@www.pacificzen.org
SUMMARY:TUESDAY ZEN with David Weinstein
DESCRIPTION:REGISTER\n\nEveryone is welcome here no matter how you are feeling\, where you come from\, what you believe.  \n—David Weinstein \n\nDavid Weinstein Roshi\n  \nCOME JOIN US on Tuesdays for koan meditation\, dharma talk and conversation.\nRegister to participate. All are welcome. \nDavid Weinstein Roshi\, Director of Rockridge Meditation Community \n 
URL:https://www.pacificzen.org/event/tuesday-zen-with-david-weinstein-86/
LOCATION:PZI Online Temple
CATEGORIES:PZI Zen Online
ATTACH;FMTTYPE=image/jpeg:https://www.pacificzen.org/wp-content/uploads/2021/02/500X375_DavidW.jpg
ORGANIZER;CN="David Weinstein Roshi":MAILTO:dweinstein@pacificzen.org
END:VEVENT
BEGIN:VEVENT
DTSTART;TZID=America/Los_Angeles:20260519T180000
DTEND;TZID=America/Los_Angeles:20260519T193000
DTSTAMP:20260424T062127
CREATED:20260404T104053Z
LAST-MODIFIED:20260404T104053Z
UID:10002339-1779213600-1779219000@www.pacificzen.org
SUMMARY:TUESDAY ZEN with David Weinstein
DESCRIPTION:REGISTER\n\nEveryone is welcome here no matter how you are feeling\, where you come from\, what you believe.  \n—David Weinstein \n\nDavid Weinstein Roshi\n  \nCOME JOIN US on Tuesdays for koan meditation\, dharma talk and conversation.\nRegister to participate. All are welcome. \nDavid Weinstein Roshi\, Director of Rockridge Meditation Community \n 
URL:https://www.pacificzen.org/event/tuesday-zen-with-david-weinstein-85/
LOCATION:PZI Online Temple
CATEGORIES:PZI Zen Online
ATTACH;FMTTYPE=image/jpeg:https://www.pacificzen.org/wp-content/uploads/2021/02/500X375_DavidW.jpg
ORGANIZER;CN="David Weinstein Roshi":MAILTO:dweinstein@pacificzen.org
END:VEVENT
BEGIN:VEVENT
DTSTART;TZID=America/Los_Angeles:20260523T080000
DTEND;TZID=America/Los_Angeles:20260523T100000
DTSTAMP:20260424T062127
CREATED:20260404T112245Z
LAST-MODIFIED:20260422T190654Z
UID:10002353-1779523200-1779530400@www.pacificzen.org
SUMMARY:SATURDAY ZEN: For PZI Members – Conversations with David Weinstein
DESCRIPTION:About Saturday Conversations \nDokusan is the Japanese word for these conversations about meditation practice. It means “to go alone” or “to practice alone.” It is to have a conversation so intimate\, that for both participants it is as if you were talking with and listening to yourself. \nThe word “conversation” (in place of the Japanese word dokusan) has its own way of speaking to the experience. \nEtymologically\, it means “to turn around together.” Meditation is often referred to as a turning around of our attention towards the inside. These conversations about meditation practice are an opportunity for a mutual turning the light around and exploring what’s there. \n—David Weinstein \n\nSaturday Conversations with David Weinstein Roshi\nOnline on Zoom from 8–10:00 am Pacific Time\nEvery two weeks\, schedule permitting \nIf you are a PZI Member and would like to have a conversation with David\,\nbook your 15-minute online meeting for May 23rd here. Link coming soon! \nDana gratefully accepted \nQuestions? Contact David
URL:https://www.pacificzen.org/event/saturday-zen-may-30th/
LOCATION:PZI Online Temple
CATEGORIES:Saturday Conversations
ATTACH;FMTTYPE=image/jpeg:https://www.pacificzen.org/wp-content/uploads/2024/09/Buddha-laying-down.jpg
ORGANIZER;CN="David Weinstein Roshi":MAILTO:dweinstein@pacificzen.org
END:VEVENT
BEGIN:VEVENT
DTSTART;TZID=America/Los_Angeles:20260526T180000
DTEND;TZID=America/Los_Angeles:20260526T193000
DTSTAMP:20260424T062127
CREATED:20260404T104007Z
LAST-MODIFIED:20260404T104007Z
UID:10002337-1779818400-1779823800@www.pacificzen.org
SUMMARY:TUESDAY ZEN with David Weinstein
DESCRIPTION:REGISTER\n\nEveryone is welcome here no matter how you are feeling\, where you come from\, what you believe.  \n—David Weinstein \n\nDavid Weinstein Roshi\n  \nCOME JOIN US on Tuesdays for koan meditation\, dharma talk and conversation.\nRegister to participate. All are welcome. \nDavid Weinstein Roshi\, Director of Rockridge Meditation Community \n 
URL:https://www.pacificzen.org/event/tuesday-zen-with-david-weinstein-84/
LOCATION:PZI Online Temple
CATEGORIES:PZI Zen Online
ATTACH;FMTTYPE=image/jpeg:https://www.pacificzen.org/wp-content/uploads/2021/02/500X375_DavidW.jpg
ORGANIZER;CN="David Weinstein Roshi":MAILTO:dweinstein@pacificzen.org
END:VEVENT
END:VCALENDAR