BEGIN:VCALENDAR
VERSION:2.0
PRODID:-//Pacific Zen Institute - ECPv6.15.17.1//NONSGML v1.0//EN
CALSCALE:GREGORIAN
METHOD:PUBLISH
X-WR-CALNAME:Pacific Zen Institute
X-ORIGINAL-URL:https://www.pacificzen.org
X-WR-CALDESC:Events for Pacific Zen Institute
REFRESH-INTERVAL;VALUE=DURATION:PT1H
X-Robots-Tag:noindex
X-PUBLISHED-TTL:PT1H
BEGIN:VTIMEZONE
TZID:America/Los_Angeles
BEGIN:DAYLIGHT
TZOFFSETFROM:-0800
TZOFFSETTO:-0700
TZNAME:PDT
DTSTART:20250309T100000
END:DAYLIGHT
BEGIN:STANDARD
TZOFFSETFROM:-0700
TZOFFSETTO:-0800
TZNAME:PST
DTSTART:20251102T090000
END:STANDARD
BEGIN:DAYLIGHT
TZOFFSETFROM:-0800
TZOFFSETTO:-0700
TZNAME:PDT
DTSTART:20260308T100000
END:DAYLIGHT
BEGIN:STANDARD
TZOFFSETFROM:-0700
TZOFFSETTO:-0800
TZNAME:PST
DTSTART:20261101T090000
END:STANDARD
BEGIN:DAYLIGHT
TZOFFSETFROM:-0800
TZOFFSETTO:-0700
TZNAME:PDT
DTSTART:20270314T100000
END:DAYLIGHT
BEGIN:STANDARD
TZOFFSETFROM:-0700
TZOFFSETTO:-0800
TZNAME:PST
DTSTART:20271107T090000
END:STANDARD
END:VTIMEZONE
BEGIN:VEVENT
DTSTART;TZID=America/Los_Angeles:20260430T160000
DTEND;TZID=America/Los_Angeles:20260430T173000
DTSTAMP:20260424T074054
CREATED:20260217T173020Z
LAST-MODIFIED:20260217T173020Z
UID:10002323-1777564800-1777570200@www.pacificzen.org
SUMMARY:THURSDAY ZEN with David Parks
DESCRIPTION:REGISTER\n\nDon’t grab hold\, just allow the meditation to come to you. Same with koans\, they will come. It is like a dance\, a call and response.  \n—David Parks \n\n\n\n\n\n \n  \nCOME JOIN US on Thursdays for koan meditation\, dharma talk and conversation. All are welcome. Register to participate. \nDavid Parks Roshi\, Director of Bluegrass Zen
URL:https://www.pacificzen.org/event/thursday-zen-with-david-parks-62/
LOCATION:PZI Online Temple
CATEGORIES:PZI Zen Online
ATTACH;FMTTYPE=image/jpeg:https://www.pacificzen.org/wp-content/uploads/2024/06/DPR-Headshot_500x375.jpg
ORGANIZER;CN="David Parks Roshi":MAILTO:dparksbluegrasszen@gmail.com
END:VEVENT
BEGIN:VEVENT
DTSTART;TZID=America/Los_Angeles:20260514T160000
DTEND;TZID=America/Los_Angeles:20260514T173000
DTSTAMP:20260424T074054
CREATED:20260404T111730Z
LAST-MODIFIED:20260404T111730Z
UID:10002350-1778774400-1778779800@www.pacificzen.org
SUMMARY:THURSDAY ZEN with David Parks
DESCRIPTION:REGISTER\n\nDon’t grab hold\, just allow the meditation to come to you. Same with koans\, they will come. It is like a dance\, a call and response.  \n—David Parks \n\n\n\n\n\n \n  \nCOME JOIN US on Thursdays for koan meditation\, dharma talk and conversation. All are welcome. Register to participate. \nDavid Parks Roshi\, Director of Bluegrass Zen
URL:https://www.pacificzen.org/event/thursday-zen-with-david-parks-68/
LOCATION:PZI Online Temple
CATEGORIES:PZI Zen Online
ATTACH;FMTTYPE=image/jpeg:https://www.pacificzen.org/wp-content/uploads/2024/06/DPR-Headshot_500x375.jpg
ORGANIZER;CN="David Parks Roshi":MAILTO:dparksbluegrasszen@gmail.com
END:VEVENT
BEGIN:VEVENT
DTSTART;TZID=America/Los_Angeles:20260528T160000
DTEND;TZID=America/Los_Angeles:20260528T173000
DTSTAMP:20260424T074054
CREATED:20260404T111704Z
LAST-MODIFIED:20260404T111704Z
UID:10002351-1779984000-1779989400@www.pacificzen.org
SUMMARY:THURSDAY ZEN with David Parks
DESCRIPTION:REGISTER\n\nDon’t grab hold\, just allow the meditation to come to you. Same with koans\, they will come. It is like a dance\, a call and response.  \n—David Parks \n\n\n\n\n\n \n  \nCOME JOIN US on Thursdays for koan meditation\, dharma talk and conversation. All are welcome. Register to participate. \nDavid Parks Roshi\, Director of Bluegrass Zen
URL:https://www.pacificzen.org/event/thursday-zen-with-david-parks-67/
LOCATION:PZI Online Temple
CATEGORIES:PZI Zen Online
ATTACH;FMTTYPE=image/jpeg:https://www.pacificzen.org/wp-content/uploads/2024/06/DPR-Headshot_500x375.jpg
ORGANIZER;CN="David Parks Roshi":MAILTO:dparksbluegrasszen@gmail.com
END:VEVENT
END:VCALENDAR